BEGIN:VCALENDAR
VERSION:2.0
PRODID:-//Tukios.com/
BEGIN:VEVENT
UID:fd3b9de1-ba28-4b9c-b97c-c0fda4864fc6@www.pecangrovefuneral.com
DTSTAMP:20260421T033858Z
DTSTART:20260425T190000Z
DTEND:20260425T200000Z
SUMMARY:Funeral Service
DESCRIPTION:
URL:https://www.pecangrovefuneral.com/obituaries/rebecca-allen
LOCATION:Hallsburg Baptist Church 1195 Wilbanks Dr  Waco TX 76705
GEO:31.546774;-96.95722
END:VEVENT
END:VCALENDAR