BEGIN:VCALENDAR
VERSION:2.0
PRODID:-//Tukios.com/
BEGIN:VEVENT
UID:3212a90f-c1bb-42bb-b889-b40b2bfc9948@www.pecangrovefuneral.com
DTSTAMP:20260424T024530Z
DTSTART:20260427T190000Z
DTEND:20260427T200000Z
SUMMARY:Graveside Service
DESCRIPTION:
URL:https://www.pecangrovefuneral.com/obituaries/larry-cathey
LOCATION: 3201 South 12th Street  Waco TX 76706
GEO:31.5274293;-97.1097564
END:VEVENT
END:VCALENDAR