BEGIN:VCALENDAR
VERSION:2.0
PRODID:-//Tukios.com/
BEGIN:VEVENT
UID:c5784daa-ea5d-4abd-9740-8d1e136786f4@www.pecangrovefuneral.com
DTSTAMP:20260424T235301Z
DTSTART:20260502T160000Z
DTEND:20260502T170000Z
SUMMARY:Burial
DESCRIPTION:
URL:https://www.pecangrovefuneral.com/obituaries/elizabeth-ann-henager
LOCATION: 7671 Interstate 35  Robinson TX 76706
GEO:31.4614771;-97.1695441
END:VEVENT
END:VCALENDAR