BEGIN:VCALENDAR
VERSION:2.0
PRODID:-//Tukios.com/
BEGIN:VEVENT
UID:56f41995-3e1d-4ebc-b515-e39e7719b96a@www.pecangrovefuneral.com
DTSTAMP:20260424T235819Z
DTSTART:20260502T150000Z
DTEND:20260502T160000Z
SUMMARY:Funeral Service
DESCRIPTION:
URL:https://www.pecangrovefuneral.com/obituaries/elizabeth-ann-henager
LOCATION: 3124 Robinson Dr  Waco TX 76706
GEO:31.5091037;-97.1271467
END:VEVENT
END:VCALENDAR