BEGIN:VCALENDAR
VERSION:2.0
PRODID:-//Tukios.com/
BEGIN:VEVENT
UID:fbff68ec-3389-44d6-b0f0-3b1cb4e40167@www.pecangrovefuneral.com
DTSTAMP:20260421T235608Z
DTSTART:20260427T193000Z
DTEND:20260427T203000Z
SUMMARY:Graveside Service
DESCRIPTION:
URL:https://www.pecangrovefuneral.com/obituaries/debora-looney
LOCATION:White Rock Cemetery 2533 Ross Road  Elm Mott TX 76640
GEO:31.7086788;-97.132304
END:VEVENT
END:VCALENDAR