BEGIN:VCALENDAR
VERSION:2.0
PRODID:-//Tukios.com/
BEGIN:VEVENT
UID:471ecd47-d251-4e6f-be19-9c5c8990f768@www.pecangrovefuneral.com
DTSTAMP:20260422T000125Z
DTSTART:20260427T160000Z
DTEND:20260427T180000Z
SUMMARY:Visitation
DESCRIPTION:
URL:https://www.pecangrovefuneral.com/obituaries/debora-looney
LOCATION: 3124 Robinson Dr  Waco TX 76706
GEO:31.5091037;-97.1271467
END:VEVENT
END:VCALENDAR